BEGIN:VCALENDAR
VERSION:2.0
PRODID:-//Glasgow Chamber Choir - ECPv6.15.20//NONSGML v1.0//EN
CALSCALE:GREGORIAN
METHOD:PUBLISH
X-WR-CALNAME:Glasgow Chamber Choir
X-ORIGINAL-URL:https://glasgowchamberchoir.org.uk
X-WR-CALDESC:Events for Glasgow Chamber Choir
REFRESH-INTERVAL;VALUE=DURATION:PT1H
X-Robots-Tag:noindex
X-PUBLISHED-TTL:PT1H
BEGIN:VTIMEZONE
TZID:UTC
BEGIN:STANDARD
TZOFFSETFROM:+0000
TZOFFSETTO:+0000
TZNAME:UTC
DTSTART:20140101T000000
END:STANDARD
END:VTIMEZONE
BEGIN:VEVENT
DTSTART;TZID=UTC:20151129T153000
DTEND;TZID=UTC:20151129T153000
DTSTAMP:20260423T130413
CREATED:20151008T202309Z
LAST-MODIFIED:20151124T205714Z
UID:93-1448811000-1448811000@glasgowchamberchoir.org.uk
SUMMARY:'Veni Emmanuel' - Music for Advent to Christmas
DESCRIPTION:A delightful programme of music to introduce the season of Advent and Christmas\, drawn from Renaissance and Tudor composers\, as well as works by more modern composers such as Poulenc\, Arvo Part\, Judith Bingham\, James MacMillan\, Francisco Guerrero and Phillip Cooke. \n  \nTickets are available online from Eventbrite:
URL:https://glasgowchamberchoir.org.uk/event/veni-emmanuel-music-for-advent-to-christmas/
LOCATION:St Peter’s Catholic Church\, 46 Hyndland Street\, Partick\, Glasgow\, G11 5PS
CATEGORIES:Concert
ATTACH;FMTTYPE=image/jpeg:https://glasgowchamberchoir.org.uk/wp-content/uploads/2015/11/Veni_poster_glasgow_web2.jpg
END:VEVENT
BEGIN:VEVENT
DTSTART;TZID=UTC:20151128T190000
DTEND;TZID=UTC:20151128T190000
DTSTAMP:20260423T130413
CREATED:20151008T202119Z
LAST-MODIFIED:20151124T205754Z
UID:91-1448737200-1448737200@glasgowchamberchoir.org.uk
SUMMARY:'Veni Emmanuel' - Music for Advent to Christmas
DESCRIPTION:A delightful programme of music to introduce the season of Advent and Christmas\, drawn from Renaissance and Tudor composers\, as well as works by more modern composers such as Poulenc\, Arvo Part\, Judith Bingham\, James MacMillan\, Francisco Guerrero and Phillip Cooke. \n  \nTickets are available online from Eventbrite:
URL:https://glasgowchamberchoir.org.uk/event/veni-emmanuel/
LOCATION:Lyle Kirk\, Newark Street\, Greenock\, PA16 7TF\, United Kingdom
CATEGORIES:Concert
ATTACH;FMTTYPE=image/jpeg:https://glasgowchamberchoir.org.uk/wp-content/uploads/2015/11/Veni_poster_greenock_web2.jpg
END:VEVENT
BEGIN:VEVENT
DTSTART;TZID=UTC:20151108T190000
DTEND;TZID=UTC:20151108T190000
DTSTAMP:20260423T130413
CREATED:20151008T191833Z
LAST-MODIFIED:20151102T222032Z
UID:69-1447009200-1447009200@glasgowchamberchoir.org.uk
SUMMARY:Haydn - The Creation with Amicus Orchestra
DESCRIPTION:Considered by many to be Haydn’s greatest masterpiece\, the oratorio Creation depicts and celebrates the creation of the world as described in the Book of Genesis and Paradise Lost in music of wit\, colour and grandeur. \nWe are delighted to team up once more with Amicus Orchestra\, one of Scotland’s finest amateur orchestras\, for the special performance. \nTickets\nTickets are available Online or at the door. Previous events in the Memorial Chapel have been well attended to advance booking online is recommended! \n 
URL:https://glasgowchamberchoir.org.uk/event/haydn-the-creation-with-amicus-orchestra/
LOCATION:Glasgow University Memorial Chapel\, Glasgow University\, Glasgow\, G12 8QQ\, United Kingdom
CATEGORIES:Concert
ATTACH;FMTTYPE=image/jpeg:https://glasgowchamberchoir.org.uk/wp-content/uploads/2015/10/CRLP0X3WoAAGoHX.jpg
END:VEVENT
BEGIN:VEVENT
DTSTART;TZID=UTC:20150627T190000
DTEND;TZID=UTC:20150627T190000
DTSTAMP:20260423T130413
CREATED:20151008T205808Z
LAST-MODIFIED:20151011T185912Z
UID:118-1435431600-1435431600@glasgowchamberchoir.org.uk
SUMMARY:Songs for a Summer Festival
DESCRIPTION:John Rutter; The Sprig of Thyme and music by Stanford\, Whitacre\, Grainger
URL:https://glasgowchamberchoir.org.uk/event/songs-for-a-summer-festival/
LOCATION:Kelvinside Hillhead Parish Church\, Kelvinside Hillhead Parish Church\, Saltoun Street\, Glasgow\, G12 9AR\, United Kingdom
CATEGORIES:Concert
ATTACH;FMTTYPE=image/jpeg:https://glasgowchamberchoir.org.uk/wp-content/uploads/2015/10/Songs-for-a-Summer-Festival.jpg
END:VEVENT
BEGIN:VEVENT
DTSTART;TZID=UTC:20150607T153000
DTEND;TZID=UTC:20150607T153000
DTSTAMP:20260423T130413
CREATED:20151011T190737Z
LAST-MODIFIED:20151011T190853Z
UID:150-1433691000-1433691000@glasgowchamberchoir.org.uk
SUMMARY:Edinburgh Quartet and Glasgow Chamber Choir celebrate Hans Gal's 125th
DESCRIPTION:With guest soloists Patricia Rozario OBE: soprano; Juliette Bausor: flute; Nikita Naumov: double bass; Michael Bawtree: conductor\, piano \nA feast of vocal chamber music by Gál\, Schubert and Mendelssohn to celebrate the 125th anniversary of late-romantic composer Hans Gál\, who spent most of his life in Scotland\, having fled Nazi Germany. \n\nGál: Lyrical Suite (solo soprano\, flute & string quartet);\nGál: Motet (mixed choir a cappella);\nGál: Nachtmusik (solo soprano\, men’s choir\, flute\, cello & piano);\nSchubert: Gott im Ungewitter (mixed choir & piano);\nMendelssohn: Venezianisches Gondellied(soprano & piano);\nMendelssohn: Neue Liebe(soprano & piano);\nGál: Of A Summer Day (solo soprano\, women’s choir & strings)\n\nNever heard the music of Hans Gál? Check outwww.hansgal.org/audiosamples
URL:https://glasgowchamberchoir.org.uk/event/edinburgh-quartet-and-glasgow-chamber-choir-celebrate-hans-gals-125th/
LOCATION:Queen’s Hall Edinburgh\, 85-89 Clerk St\, Edinburgh\, EH8 9JG\, United Kingdom
CATEGORIES:Concert
ATTACH;FMTTYPE=image/jpeg:https://glasgowchamberchoir.org.uk/wp-content/uploads/2015/10/June-7th-fb-poster.jpg
END:VEVENT
END:VCALENDAR